BEGIN:VCALENDAR
VERSION:2.0
PRODID:-//St. James Presbyterian Church - ECPv6.15.20//NONSGML v1.0//EN
CALSCALE:GREGORIAN
METHOD:PUBLISH
X-ORIGINAL-URL:https://www.stjames-presby.org
X-WR-CALDESC:Events for St. James Presbyterian Church
REFRESH-INTERVAL;VALUE=DURATION:PT1H
X-Robots-Tag:noindex
X-PUBLISHED-TTL:PT1H
BEGIN:VTIMEZONE
TZID:UTC
BEGIN:STANDARD
TZOFFSETFROM:+0000
TZOFFSETTO:+0000
TZNAME:UTC
DTSTART:20280101T000000
END:STANDARD
END:VTIMEZONE
BEGIN:VEVENT
DTSTART;TZID=UTC:20290509T090000
DTEND;TZID=UTC:20300501T100000
DTSTAMP:20260421T110338
CREATED:20260108T010128Z
LAST-MODIFIED:20260108T010426Z
UID:10002060-1873011600-1903860000@www.stjames-presby.org
SUMMARY:Sunday Morning Discussion Group
DESCRIPTION:Sunday morning discussion group at 9am
URL:https://www.stjames-presby.org/event/sunday-morning-discussion-group-2/2029-05-09/
LOCATION:St. James Presbyterian\, 1425 Orrs Bridge Rd\, Mechanicsburg\, PA\, PA\, 17050\, United States
ATTACH;FMTTYPE=image/webp:https://www.stjames-presby.org/wp-content/uploads/2026/01/christian-bible-deliver-devotional-hand-friendship-holy-bible-study-togethe-christian-bible-god-deliver-devotional-hand-160424374.jpg.webp
END:VEVENT
BEGIN:VEVENT
DTSTART;TZID=UTC:20290516T090000
DTEND;TZID=UTC:20300508T100000
DTSTAMP:20260421T110338
CREATED:20260108T010128Z
LAST-MODIFIED:20260108T010426Z
UID:10002061-1873616400-1904464800@www.stjames-presby.org
SUMMARY:Sunday Morning Discussion Group
DESCRIPTION:Sunday morning discussion group at 9am
URL:https://www.stjames-presby.org/event/sunday-morning-discussion-group-2/2029-05-16/
LOCATION:St. James Presbyterian\, 1425 Orrs Bridge Rd\, Mechanicsburg\, PA\, PA\, 17050\, United States
ATTACH;FMTTYPE=image/webp:https://www.stjames-presby.org/wp-content/uploads/2026/01/christian-bible-deliver-devotional-hand-friendship-holy-bible-study-togethe-christian-bible-god-deliver-devotional-hand-160424374.jpg.webp
END:VEVENT
BEGIN:VEVENT
DTSTART;TZID=UTC:20290523T090000
DTEND;TZID=UTC:20300515T100000
DTSTAMP:20260421T110338
CREATED:20260108T010128Z
LAST-MODIFIED:20260108T010426Z
UID:10002062-1874221200-1905069600@www.stjames-presby.org
SUMMARY:Sunday Morning Discussion Group
DESCRIPTION:Sunday morning discussion group at 9am
URL:https://www.stjames-presby.org/event/sunday-morning-discussion-group-2/2029-05-23/
LOCATION:St. James Presbyterian\, 1425 Orrs Bridge Rd\, Mechanicsburg\, PA\, PA\, 17050\, United States
ATTACH;FMTTYPE=image/webp:https://www.stjames-presby.org/wp-content/uploads/2026/01/christian-bible-deliver-devotional-hand-friendship-holy-bible-study-togethe-christian-bible-god-deliver-devotional-hand-160424374.jpg.webp
END:VEVENT
BEGIN:VEVENT
DTSTART;TZID=UTC:20290530T090000
DTEND;TZID=UTC:20300522T100000
DTSTAMP:20260421T110338
CREATED:20260108T010128Z
LAST-MODIFIED:20260108T010426Z
UID:10002063-1874826000-1905674400@www.stjames-presby.org
SUMMARY:Sunday Morning Discussion Group
DESCRIPTION:Sunday morning discussion group at 9am
URL:https://www.stjames-presby.org/event/sunday-morning-discussion-group-2/2029-05-30/
LOCATION:St. James Presbyterian\, 1425 Orrs Bridge Rd\, Mechanicsburg\, PA\, PA\, 17050\, United States
ATTACH;FMTTYPE=image/webp:https://www.stjames-presby.org/wp-content/uploads/2026/01/christian-bible-deliver-devotional-hand-friendship-holy-bible-study-togethe-christian-bible-god-deliver-devotional-hand-160424374.jpg.webp
END:VEVENT
BEGIN:VEVENT
DTSTART;TZID=UTC:20290606T090000
DTEND;TZID=UTC:20300529T100000
DTSTAMP:20260421T110338
CREATED:20260108T010128Z
LAST-MODIFIED:20260108T010426Z
UID:10002064-1875430800-1906279200@www.stjames-presby.org
SUMMARY:Sunday Morning Discussion Group
DESCRIPTION:Sunday morning discussion group at 9am
URL:https://www.stjames-presby.org/event/sunday-morning-discussion-group-2/2029-06-06/
LOCATION:St. James Presbyterian\, 1425 Orrs Bridge Rd\, Mechanicsburg\, PA\, PA\, 17050\, United States
ATTACH;FMTTYPE=image/webp:https://www.stjames-presby.org/wp-content/uploads/2026/01/christian-bible-deliver-devotional-hand-friendship-holy-bible-study-togethe-christian-bible-god-deliver-devotional-hand-160424374.jpg.webp
END:VEVENT
BEGIN:VEVENT
DTSTART;TZID=UTC:20290613T090000
DTEND;TZID=UTC:20300605T100000
DTSTAMP:20260421T110338
CREATED:20260108T010128Z
LAST-MODIFIED:20260108T010426Z
UID:10002065-1876035600-1906884000@www.stjames-presby.org
SUMMARY:Sunday Morning Discussion Group
DESCRIPTION:Sunday morning discussion group at 9am
URL:https://www.stjames-presby.org/event/sunday-morning-discussion-group-2/2029-06-13/
LOCATION:St. James Presbyterian\, 1425 Orrs Bridge Rd\, Mechanicsburg\, PA\, PA\, 17050\, United States
ATTACH;FMTTYPE=image/webp:https://www.stjames-presby.org/wp-content/uploads/2026/01/christian-bible-deliver-devotional-hand-friendship-holy-bible-study-togethe-christian-bible-god-deliver-devotional-hand-160424374.jpg.webp
END:VEVENT
BEGIN:VEVENT
DTSTART;TZID=UTC:20290620T090000
DTEND;TZID=UTC:20300612T100000
DTSTAMP:20260421T110338
CREATED:20260108T010128Z
LAST-MODIFIED:20260108T010426Z
UID:10002066-1876640400-1907488800@www.stjames-presby.org
SUMMARY:Sunday Morning Discussion Group
DESCRIPTION:Sunday morning discussion group at 9am
URL:https://www.stjames-presby.org/event/sunday-morning-discussion-group-2/2029-06-20/
LOCATION:St. James Presbyterian\, 1425 Orrs Bridge Rd\, Mechanicsburg\, PA\, PA\, 17050\, United States
ATTACH;FMTTYPE=image/webp:https://www.stjames-presby.org/wp-content/uploads/2026/01/christian-bible-deliver-devotional-hand-friendship-holy-bible-study-togethe-christian-bible-god-deliver-devotional-hand-160424374.jpg.webp
END:VEVENT
BEGIN:VEVENT
DTSTART;TZID=UTC:20290627T090000
DTEND;TZID=UTC:20300619T100000
DTSTAMP:20260421T110338
CREATED:20260108T010128Z
LAST-MODIFIED:20260108T010426Z
UID:10002067-1877245200-1908093600@www.stjames-presby.org
SUMMARY:Sunday Morning Discussion Group
DESCRIPTION:Sunday morning discussion group at 9am
URL:https://www.stjames-presby.org/event/sunday-morning-discussion-group-2/2029-06-27/
LOCATION:St. James Presbyterian\, 1425 Orrs Bridge Rd\, Mechanicsburg\, PA\, PA\, 17050\, United States
ATTACH;FMTTYPE=image/webp:https://www.stjames-presby.org/wp-content/uploads/2026/01/christian-bible-deliver-devotional-hand-friendship-holy-bible-study-togethe-christian-bible-god-deliver-devotional-hand-160424374.jpg.webp
END:VEVENT
BEGIN:VEVENT
DTSTART;TZID=UTC:20290704T090000
DTEND;TZID=UTC:20300626T100000
DTSTAMP:20260421T110338
CREATED:20260108T010128Z
LAST-MODIFIED:20260108T010426Z
UID:10002068-1877850000-1908698400@www.stjames-presby.org
SUMMARY:Sunday Morning Discussion Group
DESCRIPTION:Sunday morning discussion group at 9am
URL:https://www.stjames-presby.org/event/sunday-morning-discussion-group-2/2029-07-04/
LOCATION:St. James Presbyterian\, 1425 Orrs Bridge Rd\, Mechanicsburg\, PA\, PA\, 17050\, United States
ATTACH;FMTTYPE=image/webp:https://www.stjames-presby.org/wp-content/uploads/2026/01/christian-bible-deliver-devotional-hand-friendship-holy-bible-study-togethe-christian-bible-god-deliver-devotional-hand-160424374.jpg.webp
END:VEVENT
BEGIN:VEVENT
DTSTART;TZID=UTC:20290711T090000
DTEND;TZID=UTC:20300703T100000
DTSTAMP:20260421T110338
CREATED:20260108T010128Z
LAST-MODIFIED:20260108T010426Z
UID:10002069-1878454800-1909303200@www.stjames-presby.org
SUMMARY:Sunday Morning Discussion Group
DESCRIPTION:Sunday morning discussion group at 9am
URL:https://www.stjames-presby.org/event/sunday-morning-discussion-group-2/2029-07-11/
LOCATION:St. James Presbyterian\, 1425 Orrs Bridge Rd\, Mechanicsburg\, PA\, PA\, 17050\, United States
ATTACH;FMTTYPE=image/webp:https://www.stjames-presby.org/wp-content/uploads/2026/01/christian-bible-deliver-devotional-hand-friendship-holy-bible-study-togethe-christian-bible-god-deliver-devotional-hand-160424374.jpg.webp
END:VEVENT
BEGIN:VEVENT
DTSTART;TZID=UTC:20290718T090000
DTEND;TZID=UTC:20300710T100000
DTSTAMP:20260421T110338
CREATED:20260108T010128Z
LAST-MODIFIED:20260108T010426Z
UID:10002070-1879059600-1909908000@www.stjames-presby.org
SUMMARY:Sunday Morning Discussion Group
DESCRIPTION:Sunday morning discussion group at 9am
URL:https://www.stjames-presby.org/event/sunday-morning-discussion-group-2/2029-07-18/
LOCATION:St. James Presbyterian\, 1425 Orrs Bridge Rd\, Mechanicsburg\, PA\, PA\, 17050\, United States
ATTACH;FMTTYPE=image/webp:https://www.stjames-presby.org/wp-content/uploads/2026/01/christian-bible-deliver-devotional-hand-friendship-holy-bible-study-togethe-christian-bible-god-deliver-devotional-hand-160424374.jpg.webp
END:VEVENT
BEGIN:VEVENT
DTSTART;TZID=UTC:20290725T090000
DTEND;TZID=UTC:20300717T100000
DTSTAMP:20260421T110338
CREATED:20260108T010128Z
LAST-MODIFIED:20260108T010426Z
UID:10002071-1879664400-1910512800@www.stjames-presby.org
SUMMARY:Sunday Morning Discussion Group
DESCRIPTION:Sunday morning discussion group at 9am
URL:https://www.stjames-presby.org/event/sunday-morning-discussion-group-2/2029-07-25/
LOCATION:St. James Presbyterian\, 1425 Orrs Bridge Rd\, Mechanicsburg\, PA\, PA\, 17050\, United States
ATTACH;FMTTYPE=image/webp:https://www.stjames-presby.org/wp-content/uploads/2026/01/christian-bible-deliver-devotional-hand-friendship-holy-bible-study-togethe-christian-bible-god-deliver-devotional-hand-160424374.jpg.webp
END:VEVENT
BEGIN:VEVENT
DTSTART;TZID=UTC:20290801T090000
DTEND;TZID=UTC:20300724T100000
DTSTAMP:20260421T110338
CREATED:20260108T010128Z
LAST-MODIFIED:20260108T010426Z
UID:10002072-1880269200-1911117600@www.stjames-presby.org
SUMMARY:Sunday Morning Discussion Group
DESCRIPTION:Sunday morning discussion group at 9am
URL:https://www.stjames-presby.org/event/sunday-morning-discussion-group-2/2029-08-01/
LOCATION:St. James Presbyterian\, 1425 Orrs Bridge Rd\, Mechanicsburg\, PA\, PA\, 17050\, United States
ATTACH;FMTTYPE=image/webp:https://www.stjames-presby.org/wp-content/uploads/2026/01/christian-bible-deliver-devotional-hand-friendship-holy-bible-study-togethe-christian-bible-god-deliver-devotional-hand-160424374.jpg.webp
END:VEVENT
BEGIN:VEVENT
DTSTART;TZID=UTC:20290808T090000
DTEND;TZID=UTC:20300731T100000
DTSTAMP:20260421T110338
CREATED:20260108T010128Z
LAST-MODIFIED:20260108T010426Z
UID:10002073-1880874000-1911722400@www.stjames-presby.org
SUMMARY:Sunday Morning Discussion Group
DESCRIPTION:Sunday morning discussion group at 9am
URL:https://www.stjames-presby.org/event/sunday-morning-discussion-group-2/2029-08-08/
LOCATION:St. James Presbyterian\, 1425 Orrs Bridge Rd\, Mechanicsburg\, PA\, PA\, 17050\, United States
ATTACH;FMTTYPE=image/webp:https://www.stjames-presby.org/wp-content/uploads/2026/01/christian-bible-deliver-devotional-hand-friendship-holy-bible-study-togethe-christian-bible-god-deliver-devotional-hand-160424374.jpg.webp
END:VEVENT
BEGIN:VEVENT
DTSTART;TZID=UTC:20290815T090000
DTEND;TZID=UTC:20300807T100000
DTSTAMP:20260421T110338
CREATED:20260108T010128Z
LAST-MODIFIED:20260108T010426Z
UID:10002074-1881478800-1912327200@www.stjames-presby.org
SUMMARY:Sunday Morning Discussion Group
DESCRIPTION:Sunday morning discussion group at 9am
URL:https://www.stjames-presby.org/event/sunday-morning-discussion-group-2/2029-08-15/
LOCATION:St. James Presbyterian\, 1425 Orrs Bridge Rd\, Mechanicsburg\, PA\, PA\, 17050\, United States
ATTACH;FMTTYPE=image/webp:https://www.stjames-presby.org/wp-content/uploads/2026/01/christian-bible-deliver-devotional-hand-friendship-holy-bible-study-togethe-christian-bible-god-deliver-devotional-hand-160424374.jpg.webp
END:VEVENT
BEGIN:VEVENT
DTSTART;TZID=UTC:20290822T090000
DTEND;TZID=UTC:20300814T100000
DTSTAMP:20260421T110338
CREATED:20260108T010128Z
LAST-MODIFIED:20260108T010426Z
UID:10002075-1882083600-1912932000@www.stjames-presby.org
SUMMARY:Sunday Morning Discussion Group
DESCRIPTION:Sunday morning discussion group at 9am
URL:https://www.stjames-presby.org/event/sunday-morning-discussion-group-2/2029-08-22/
LOCATION:St. James Presbyterian\, 1425 Orrs Bridge Rd\, Mechanicsburg\, PA\, PA\, 17050\, United States
ATTACH;FMTTYPE=image/webp:https://www.stjames-presby.org/wp-content/uploads/2026/01/christian-bible-deliver-devotional-hand-friendship-holy-bible-study-togethe-christian-bible-god-deliver-devotional-hand-160424374.jpg.webp
END:VEVENT
BEGIN:VEVENT
DTSTART;TZID=UTC:20290829T090000
DTEND;TZID=UTC:20300821T100000
DTSTAMP:20260421T110338
CREATED:20260108T010128Z
LAST-MODIFIED:20260108T010426Z
UID:10002076-1882688400-1913536800@www.stjames-presby.org
SUMMARY:Sunday Morning Discussion Group
DESCRIPTION:Sunday morning discussion group at 9am
URL:https://www.stjames-presby.org/event/sunday-morning-discussion-group-2/2029-08-29/
LOCATION:St. James Presbyterian\, 1425 Orrs Bridge Rd\, Mechanicsburg\, PA\, PA\, 17050\, United States
ATTACH;FMTTYPE=image/webp:https://www.stjames-presby.org/wp-content/uploads/2026/01/christian-bible-deliver-devotional-hand-friendship-holy-bible-study-togethe-christian-bible-god-deliver-devotional-hand-160424374.jpg.webp
END:VEVENT
BEGIN:VEVENT
DTSTART;TZID=UTC:20290905T090000
DTEND;TZID=UTC:20300828T100000
DTSTAMP:20260421T110338
CREATED:20260108T010128Z
LAST-MODIFIED:20260108T010426Z
UID:10002077-1883293200-1914141600@www.stjames-presby.org
SUMMARY:Sunday Morning Discussion Group
DESCRIPTION:Sunday morning discussion group at 9am
URL:https://www.stjames-presby.org/event/sunday-morning-discussion-group-2/2029-09-05/
LOCATION:St. James Presbyterian\, 1425 Orrs Bridge Rd\, Mechanicsburg\, PA\, PA\, 17050\, United States
ATTACH;FMTTYPE=image/webp:https://www.stjames-presby.org/wp-content/uploads/2026/01/christian-bible-deliver-devotional-hand-friendship-holy-bible-study-togethe-christian-bible-god-deliver-devotional-hand-160424374.jpg.webp
END:VEVENT
BEGIN:VEVENT
DTSTART;TZID=UTC:20290912T090000
DTEND;TZID=UTC:20300904T100000
DTSTAMP:20260421T110338
CREATED:20260108T010128Z
LAST-MODIFIED:20260108T010426Z
UID:10002078-1883898000-1914746400@www.stjames-presby.org
SUMMARY:Sunday Morning Discussion Group
DESCRIPTION:Sunday morning discussion group at 9am
URL:https://www.stjames-presby.org/event/sunday-morning-discussion-group-2/2029-09-12/
LOCATION:St. James Presbyterian\, 1425 Orrs Bridge Rd\, Mechanicsburg\, PA\, PA\, 17050\, United States
ATTACH;FMTTYPE=image/webp:https://www.stjames-presby.org/wp-content/uploads/2026/01/christian-bible-deliver-devotional-hand-friendship-holy-bible-study-togethe-christian-bible-god-deliver-devotional-hand-160424374.jpg.webp
END:VEVENT
BEGIN:VEVENT
DTSTART;TZID=UTC:20290919T090000
DTEND;TZID=UTC:20300911T100000
DTSTAMP:20260421T110338
CREATED:20260108T010128Z
LAST-MODIFIED:20260108T010426Z
UID:10002079-1884502800-1915351200@www.stjames-presby.org
SUMMARY:Sunday Morning Discussion Group
DESCRIPTION:Sunday morning discussion group at 9am
URL:https://www.stjames-presby.org/event/sunday-morning-discussion-group-2/2029-09-19/
LOCATION:St. James Presbyterian\, 1425 Orrs Bridge Rd\, Mechanicsburg\, PA\, PA\, 17050\, United States
ATTACH;FMTTYPE=image/webp:https://www.stjames-presby.org/wp-content/uploads/2026/01/christian-bible-deliver-devotional-hand-friendship-holy-bible-study-togethe-christian-bible-god-deliver-devotional-hand-160424374.jpg.webp
END:VEVENT
BEGIN:VEVENT
DTSTART;TZID=UTC:20290926T090000
DTEND;TZID=UTC:20300918T100000
DTSTAMP:20260421T110338
CREATED:20260108T010128Z
LAST-MODIFIED:20260108T010426Z
UID:10002080-1885107600-1915956000@www.stjames-presby.org
SUMMARY:Sunday Morning Discussion Group
DESCRIPTION:Sunday morning discussion group at 9am
URL:https://www.stjames-presby.org/event/sunday-morning-discussion-group-2/2029-09-26/
LOCATION:St. James Presbyterian\, 1425 Orrs Bridge Rd\, Mechanicsburg\, PA\, PA\, 17050\, United States
ATTACH;FMTTYPE=image/webp:https://www.stjames-presby.org/wp-content/uploads/2026/01/christian-bible-deliver-devotional-hand-friendship-holy-bible-study-togethe-christian-bible-god-deliver-devotional-hand-160424374.jpg.webp
END:VEVENT
BEGIN:VEVENT
DTSTART;TZID=UTC:20291003T090000
DTEND;TZID=UTC:20300925T100000
DTSTAMP:20260421T110338
CREATED:20260108T010128Z
LAST-MODIFIED:20260108T010426Z
UID:10002081-1885712400-1916560800@www.stjames-presby.org
SUMMARY:Sunday Morning Discussion Group
DESCRIPTION:Sunday morning discussion group at 9am
URL:https://www.stjames-presby.org/event/sunday-morning-discussion-group-2/2029-10-03/
LOCATION:St. James Presbyterian\, 1425 Orrs Bridge Rd\, Mechanicsburg\, PA\, PA\, 17050\, United States
ATTACH;FMTTYPE=image/webp:https://www.stjames-presby.org/wp-content/uploads/2026/01/christian-bible-deliver-devotional-hand-friendship-holy-bible-study-togethe-christian-bible-god-deliver-devotional-hand-160424374.jpg.webp
END:VEVENT
BEGIN:VEVENT
DTSTART;TZID=UTC:20291010T090000
DTEND;TZID=UTC:20301002T100000
DTSTAMP:20260421T110338
CREATED:20260108T010128Z
LAST-MODIFIED:20260108T010426Z
UID:10002082-1886317200-1917165600@www.stjames-presby.org
SUMMARY:Sunday Morning Discussion Group
DESCRIPTION:Sunday morning discussion group at 9am
URL:https://www.stjames-presby.org/event/sunday-morning-discussion-group-2/2029-10-10/
LOCATION:St. James Presbyterian\, 1425 Orrs Bridge Rd\, Mechanicsburg\, PA\, PA\, 17050\, United States
ATTACH;FMTTYPE=image/webp:https://www.stjames-presby.org/wp-content/uploads/2026/01/christian-bible-deliver-devotional-hand-friendship-holy-bible-study-togethe-christian-bible-god-deliver-devotional-hand-160424374.jpg.webp
END:VEVENT
BEGIN:VEVENT
DTSTART;TZID=UTC:20291017T090000
DTEND;TZID=UTC:20301009T100000
DTSTAMP:20260421T110338
CREATED:20260108T010128Z
LAST-MODIFIED:20260108T010426Z
UID:10002083-1886922000-1917770400@www.stjames-presby.org
SUMMARY:Sunday Morning Discussion Group
DESCRIPTION:Sunday morning discussion group at 9am
URL:https://www.stjames-presby.org/event/sunday-morning-discussion-group-2/2029-10-17/
LOCATION:St. James Presbyterian\, 1425 Orrs Bridge Rd\, Mechanicsburg\, PA\, PA\, 17050\, United States
ATTACH;FMTTYPE=image/webp:https://www.stjames-presby.org/wp-content/uploads/2026/01/christian-bible-deliver-devotional-hand-friendship-holy-bible-study-togethe-christian-bible-god-deliver-devotional-hand-160424374.jpg.webp
END:VEVENT
BEGIN:VEVENT
DTSTART;TZID=UTC:20291024T090000
DTEND;TZID=UTC:20301016T100000
DTSTAMP:20260421T110338
CREATED:20260108T010128Z
LAST-MODIFIED:20260108T010426Z
UID:10002084-1887526800-1918375200@www.stjames-presby.org
SUMMARY:Sunday Morning Discussion Group
DESCRIPTION:Sunday morning discussion group at 9am
URL:https://www.stjames-presby.org/event/sunday-morning-discussion-group-2/2029-10-24/
LOCATION:St. James Presbyterian\, 1425 Orrs Bridge Rd\, Mechanicsburg\, PA\, PA\, 17050\, United States
ATTACH;FMTTYPE=image/webp:https://www.stjames-presby.org/wp-content/uploads/2026/01/christian-bible-deliver-devotional-hand-friendship-holy-bible-study-togethe-christian-bible-god-deliver-devotional-hand-160424374.jpg.webp
END:VEVENT
BEGIN:VEVENT
DTSTART;TZID=UTC:20291031T090000
DTEND;TZID=UTC:20301023T100000
DTSTAMP:20260421T110338
CREATED:20260108T010128Z
LAST-MODIFIED:20260108T010426Z
UID:10002085-1888131600-1918980000@www.stjames-presby.org
SUMMARY:Sunday Morning Discussion Group
DESCRIPTION:Sunday morning discussion group at 9am
URL:https://www.stjames-presby.org/event/sunday-morning-discussion-group-2/2029-10-31/
LOCATION:St. James Presbyterian\, 1425 Orrs Bridge Rd\, Mechanicsburg\, PA\, PA\, 17050\, United States
ATTACH;FMTTYPE=image/webp:https://www.stjames-presby.org/wp-content/uploads/2026/01/christian-bible-deliver-devotional-hand-friendship-holy-bible-study-togethe-christian-bible-god-deliver-devotional-hand-160424374.jpg.webp
END:VEVENT
BEGIN:VEVENT
DTSTART;TZID=UTC:20291107T090000
DTEND;TZID=UTC:20301030T100000
DTSTAMP:20260421T110338
CREATED:20260108T010128Z
LAST-MODIFIED:20260108T010426Z
UID:10002086-1888736400-1919584800@www.stjames-presby.org
SUMMARY:Sunday Morning Discussion Group
DESCRIPTION:Sunday morning discussion group at 9am
URL:https://www.stjames-presby.org/event/sunday-morning-discussion-group-2/2029-11-07/
LOCATION:St. James Presbyterian\, 1425 Orrs Bridge Rd\, Mechanicsburg\, PA\, PA\, 17050\, United States
ATTACH;FMTTYPE=image/webp:https://www.stjames-presby.org/wp-content/uploads/2026/01/christian-bible-deliver-devotional-hand-friendship-holy-bible-study-togethe-christian-bible-god-deliver-devotional-hand-160424374.jpg.webp
END:VEVENT
BEGIN:VEVENT
DTSTART;TZID=UTC:20291114T090000
DTEND;TZID=UTC:20301106T100000
DTSTAMP:20260421T110338
CREATED:20260108T010128Z
LAST-MODIFIED:20260108T010426Z
UID:10002087-1889341200-1920189600@www.stjames-presby.org
SUMMARY:Sunday Morning Discussion Group
DESCRIPTION:Sunday morning discussion group at 9am
URL:https://www.stjames-presby.org/event/sunday-morning-discussion-group-2/2029-11-14/
LOCATION:St. James Presbyterian\, 1425 Orrs Bridge Rd\, Mechanicsburg\, PA\, PA\, 17050\, United States
ATTACH;FMTTYPE=image/webp:https://www.stjames-presby.org/wp-content/uploads/2026/01/christian-bible-deliver-devotional-hand-friendship-holy-bible-study-togethe-christian-bible-god-deliver-devotional-hand-160424374.jpg.webp
END:VEVENT
BEGIN:VEVENT
DTSTART;TZID=UTC:20291121T090000
DTEND;TZID=UTC:20301113T100000
DTSTAMP:20260421T110338
CREATED:20260108T010128Z
LAST-MODIFIED:20260108T010426Z
UID:10002088-1889946000-1920794400@www.stjames-presby.org
SUMMARY:Sunday Morning Discussion Group
DESCRIPTION:Sunday morning discussion group at 9am
URL:https://www.stjames-presby.org/event/sunday-morning-discussion-group-2/2029-11-21/
LOCATION:St. James Presbyterian\, 1425 Orrs Bridge Rd\, Mechanicsburg\, PA\, PA\, 17050\, United States
ATTACH;FMTTYPE=image/webp:https://www.stjames-presby.org/wp-content/uploads/2026/01/christian-bible-deliver-devotional-hand-friendship-holy-bible-study-togethe-christian-bible-god-deliver-devotional-hand-160424374.jpg.webp
END:VEVENT
BEGIN:VEVENT
DTSTART;TZID=UTC:20291128T090000
DTEND;TZID=UTC:20301120T100000
DTSTAMP:20260421T110338
CREATED:20260108T010128Z
LAST-MODIFIED:20260108T010426Z
UID:10002089-1890550800-1921399200@www.stjames-presby.org
SUMMARY:Sunday Morning Discussion Group
DESCRIPTION:Sunday morning discussion group at 9am
URL:https://www.stjames-presby.org/event/sunday-morning-discussion-group-2/2029-11-28/
LOCATION:St. James Presbyterian\, 1425 Orrs Bridge Rd\, Mechanicsburg\, PA\, PA\, 17050\, United States
ATTACH;FMTTYPE=image/webp:https://www.stjames-presby.org/wp-content/uploads/2026/01/christian-bible-deliver-devotional-hand-friendship-holy-bible-study-togethe-christian-bible-god-deliver-devotional-hand-160424374.jpg.webp
END:VEVENT
END:VCALENDAR